BEGIN:VCALENDAR
VERSION:2.0
PRODID:-//Resonanzwerk - ECPv6.2.3.1//NONSGML v1.0//EN
CALSCALE:GREGORIAN
METHOD:PUBLISH
X-WR-CALNAME:Resonanzwerk
X-ORIGINAL-URL:https://www.resonanzwerk.de
X-WR-CALDESC:Veranstaltungen für Resonanzwerk
REFRESH-INTERVAL;VALUE=DURATION:PT1H
X-Robots-Tag:noindex
X-PUBLISHED-TTL:PT1H
BEGIN:VTIMEZONE
TZID:Europe/Berlin
BEGIN:DAYLIGHT
TZOFFSETFROM:+0100
TZOFFSETTO:+0200
TZNAME:CEST
DTSTART:20260329T010000
END:DAYLIGHT
BEGIN:STANDARD
TZOFFSETFROM:+0200
TZOFFSETTO:+0100
TZNAME:CET
DTSTART:20261025T010000
END:STANDARD
END:VTIMEZONE
BEGIN:VEVENT
DTSTART;VALUE=DATE:20260509
DTEND;VALUE=DATE:20260510
DTSTAMP:20260424T053854
CREATED:20251209T054214Z
LAST-MODIFIED:20251209T055144Z
UID:13651-1778284800-1778371199@www.resonanzwerk.de
SUMMARY:Geschlossene Gesellschaft
DESCRIPTION:Geschlossene Gesellschaft
URL:https://www.resonanzwerk.de/event/geschlossene-gesellschaft-4/2026-05-09/
LOCATION:ResonanzWerk\, Annemarie-Renger-Weg 5\, Oberhausen\, 46047\, Deutschland
ATTACH;FMTTYPE=image/jpeg:https://www.resonanzwerk.de/wp-content/uploads/2025/12/IMG-20240802-WA0024.jpg
END:VEVENT
BEGIN:VEVENT
DTSTART;VALUE=DATE:20260522
DTEND;VALUE=DATE:20260523
DTSTAMP:20260424T053854
CREATED:20251209T054214Z
LAST-MODIFIED:20251209T055144Z
UID:13652-1779408000-1779494399@www.resonanzwerk.de
SUMMARY:Geschlossene Gesellschaft
DESCRIPTION:Geschlossene Gesellschaft
URL:https://www.resonanzwerk.de/event/geschlossene-gesellschaft-4/2026-05-22/
LOCATION:ResonanzWerk\, Annemarie-Renger-Weg 5\, Oberhausen\, 46047\, Deutschland
ATTACH;FMTTYPE=image/jpeg:https://www.resonanzwerk.de/wp-content/uploads/2025/12/IMG-20240802-WA0024.jpg
END:VEVENT
BEGIN:VEVENT
DTSTART;VALUE=DATE:20260523
DTEND;VALUE=DATE:20260524
DTSTAMP:20260424T053854
CREATED:20251209T054214Z
LAST-MODIFIED:20251209T055144Z
UID:13653-1779494400-1779580799@www.resonanzwerk.de
SUMMARY:Geschlossene Gesellschaft
DESCRIPTION:Geschlossene Gesellschaft
URL:https://www.resonanzwerk.de/event/geschlossene-gesellschaft-4/2026-05-23/
LOCATION:ResonanzWerk\, Annemarie-Renger-Weg 5\, Oberhausen\, 46047\, Deutschland
ATTACH;FMTTYPE=image/jpeg:https://www.resonanzwerk.de/wp-content/uploads/2025/12/IMG-20240802-WA0024.jpg
END:VEVENT
BEGIN:VEVENT
DTSTART;VALUE=DATE:20260529
DTEND;VALUE=DATE:20260530
DTSTAMP:20260424T053854
CREATED:20251209T054214Z
LAST-MODIFIED:20251209T055144Z
UID:13654-1780012800-1780099199@www.resonanzwerk.de
SUMMARY:Geschlossene Gesellschaft
DESCRIPTION:Geschlossene Gesellschaft
URL:https://www.resonanzwerk.de/event/geschlossene-gesellschaft-4/2026-05-29/
LOCATION:ResonanzWerk\, Annemarie-Renger-Weg 5\, Oberhausen\, 46047\, Deutschland
ATTACH;FMTTYPE=image/jpeg:https://www.resonanzwerk.de/wp-content/uploads/2025/12/IMG-20240802-WA0024.jpg
END:VEVENT
BEGIN:VEVENT
DTSTART;VALUE=DATE:20260530
DTEND;VALUE=DATE:20260531
DTSTAMP:20260424T053854
CREATED:20251209T054214Z
LAST-MODIFIED:20251209T055144Z
UID:13655-1780099200-1780185599@www.resonanzwerk.de
SUMMARY:Geschlossene Gesellschaft
DESCRIPTION:Geschlossene Gesellschaft
URL:https://www.resonanzwerk.de/event/geschlossene-gesellschaft-4/2026-05-30/
LOCATION:ResonanzWerk\, Annemarie-Renger-Weg 5\, Oberhausen\, 46047\, Deutschland
ATTACH;FMTTYPE=image/jpeg:https://www.resonanzwerk.de/wp-content/uploads/2025/12/IMG-20240802-WA0024.jpg
END:VEVENT
BEGIN:VEVENT
DTSTART;VALUE=DATE:20260606
DTEND;VALUE=DATE:20260607
DTSTAMP:20260424T053854
CREATED:20251209T054214Z
LAST-MODIFIED:20251209T055148Z
UID:13657-1780704000-1780790399@www.resonanzwerk.de
SUMMARY:Geschlossene Gesellschaft
DESCRIPTION:Geschlossene Gesellschaft
URL:https://www.resonanzwerk.de/event/geschlossene-gesellschaft-4/2026-06-06/
LOCATION:ResonanzWerk\, Annemarie-Renger-Weg 5\, Oberhausen\, 46047\, Deutschland
ATTACH;FMTTYPE=image/jpeg:https://www.resonanzwerk.de/wp-content/uploads/2025/12/IMG-20240802-WA0024.jpg
END:VEVENT
BEGIN:VEVENT
DTSTART;VALUE=DATE:20260613
DTEND;VALUE=DATE:20260614
DTSTAMP:20260424T053854
CREATED:20251209T054214Z
LAST-MODIFIED:20251209T055149Z
UID:13658-1781308800-1781395199@www.resonanzwerk.de
SUMMARY:Geschlossene Gesellschaft
DESCRIPTION:Geschlossene Gesellschaft
URL:https://www.resonanzwerk.de/event/geschlossene-gesellschaft-4/2026-06-13/
LOCATION:ResonanzWerk\, Annemarie-Renger-Weg 5\, Oberhausen\, 46047\, Deutschland
ATTACH;FMTTYPE=image/jpeg:https://www.resonanzwerk.de/wp-content/uploads/2025/12/IMG-20240802-WA0024.jpg
END:VEVENT
BEGIN:VEVENT
DTSTART;VALUE=DATE:20260620
DTEND;VALUE=DATE:20260621
DTSTAMP:20260424T053854
CREATED:20251209T054214Z
LAST-MODIFIED:20251209T055149Z
UID:13659-1781913600-1781999999@www.resonanzwerk.de
SUMMARY:Geschlossene Gesellschaft
DESCRIPTION:Geschlossene Gesellschaft
URL:https://www.resonanzwerk.de/event/geschlossene-gesellschaft-4/2026-06-20/
LOCATION:ResonanzWerk\, Annemarie-Renger-Weg 5\, Oberhausen\, 46047\, Deutschland
ATTACH;FMTTYPE=image/jpeg:https://www.resonanzwerk.de/wp-content/uploads/2025/12/IMG-20240802-WA0024.jpg
END:VEVENT
BEGIN:VEVENT
DTSTART;VALUE=DATE:20260626
DTEND;VALUE=DATE:20260627
DTSTAMP:20260424T053854
CREATED:20251209T054214Z
LAST-MODIFIED:20251209T055149Z
UID:13660-1782432000-1782518399@www.resonanzwerk.de
SUMMARY:Geschlossene Gesellschaft
DESCRIPTION:Geschlossene Gesellschaft
URL:https://www.resonanzwerk.de/event/geschlossene-gesellschaft-4/2026-06-26/
LOCATION:ResonanzWerk\, Annemarie-Renger-Weg 5\, Oberhausen\, 46047\, Deutschland
ATTACH;FMTTYPE=image/jpeg:https://www.resonanzwerk.de/wp-content/uploads/2025/12/IMG-20240802-WA0024.jpg
END:VEVENT
BEGIN:VEVENT
DTSTART;VALUE=DATE:20260627
DTEND;VALUE=DATE:20260628
DTSTAMP:20260424T053854
CREATED:20251209T054214Z
LAST-MODIFIED:20251209T055149Z
UID:13661-1782518400-1782604799@www.resonanzwerk.de
SUMMARY:Geschlossene Gesellschaft
DESCRIPTION:Geschlossene Gesellschaft
URL:https://www.resonanzwerk.de/event/geschlossene-gesellschaft-4/2026-06-27/
LOCATION:ResonanzWerk\, Annemarie-Renger-Weg 5\, Oberhausen\, 46047\, Deutschland
ATTACH;FMTTYPE=image/jpeg:https://www.resonanzwerk.de/wp-content/uploads/2025/12/IMG-20240802-WA0024.jpg
END:VEVENT
BEGIN:VEVENT
DTSTART;VALUE=DATE:20260704
DTEND;VALUE=DATE:20260705
DTSTAMP:20260424T053854
CREATED:20251209T054214Z
LAST-MODIFIED:20251209T055149Z
UID:13667-1783123200-1783209599@www.resonanzwerk.de
SUMMARY:Geschlossene Gesellschaft
DESCRIPTION:Geschlossene Gesellschaft
URL:https://www.resonanzwerk.de/event/geschlossene-gesellschaft-4/2026-07-04/
LOCATION:ResonanzWerk\, Annemarie-Renger-Weg 5\, Oberhausen\, 46047\, Deutschland
ATTACH;FMTTYPE=image/jpeg:https://www.resonanzwerk.de/wp-content/uploads/2025/12/IMG-20240802-WA0024.jpg
END:VEVENT
BEGIN:VEVENT
DTSTART;VALUE=DATE:20260711
DTEND;VALUE=DATE:20260712
DTSTAMP:20260424T053854
CREATED:20251209T054214Z
LAST-MODIFIED:20251209T055149Z
UID:13668-1783728000-1783814399@www.resonanzwerk.de
SUMMARY:Geschlossene Gesellschaft
DESCRIPTION:Geschlossene Gesellschaft
URL:https://www.resonanzwerk.de/event/geschlossene-gesellschaft-4/2026-07-11/
LOCATION:ResonanzWerk\, Annemarie-Renger-Weg 5\, Oberhausen\, 46047\, Deutschland
ATTACH;FMTTYPE=image/jpeg:https://www.resonanzwerk.de/wp-content/uploads/2025/12/IMG-20240802-WA0024.jpg
END:VEVENT
BEGIN:VEVENT
DTSTART;VALUE=DATE:20260718
DTEND;VALUE=DATE:20260719
DTSTAMP:20260424T053854
CREATED:20251209T054214Z
LAST-MODIFIED:20251209T055150Z
UID:13669-1784332800-1784419199@www.resonanzwerk.de
SUMMARY:Geschlossene Gesellschaft
DESCRIPTION:Geschlossene Gesellschaft
URL:https://www.resonanzwerk.de/event/geschlossene-gesellschaft-4/2026-07-18/
LOCATION:ResonanzWerk\, Annemarie-Renger-Weg 5\, Oberhausen\, 46047\, Deutschland
ATTACH;FMTTYPE=image/jpeg:https://www.resonanzwerk.de/wp-content/uploads/2025/12/IMG-20240802-WA0024.jpg
END:VEVENT
BEGIN:VEVENT
DTSTART;VALUE=DATE:20260801
DTEND;VALUE=DATE:20260802
DTSTAMP:20260424T053854
CREATED:20251209T054214Z
LAST-MODIFIED:20251209T055150Z
UID:13675-1785542400-1785628799@www.resonanzwerk.de
SUMMARY:Geschlossene Gesellschaft
DESCRIPTION:Geschlossene Gesellschaft
URL:https://www.resonanzwerk.de/event/geschlossene-gesellschaft-4/2026-08-01/
LOCATION:ResonanzWerk\, Annemarie-Renger-Weg 5\, Oberhausen\, 46047\, Deutschland
ATTACH;FMTTYPE=image/jpeg:https://www.resonanzwerk.de/wp-content/uploads/2025/12/IMG-20240802-WA0024.jpg
END:VEVENT
BEGIN:VEVENT
DTSTART;VALUE=DATE:20260828
DTEND;VALUE=DATE:20260829
DTSTAMP:20260424T053854
CREATED:20251209T054214Z
LAST-MODIFIED:20251209T055150Z
UID:13676-1787875200-1787961599@www.resonanzwerk.de
SUMMARY:Geschlossene Gesellschaft
DESCRIPTION:Geschlossene Gesellschaft
URL:https://www.resonanzwerk.de/event/geschlossene-gesellschaft-4/2026-08-28/
LOCATION:ResonanzWerk\, Annemarie-Renger-Weg 5\, Oberhausen\, 46047\, Deutschland
ATTACH;FMTTYPE=image/jpeg:https://www.resonanzwerk.de/wp-content/uploads/2025/12/IMG-20240802-WA0024.jpg
END:VEVENT
BEGIN:VEVENT
DTSTART;VALUE=DATE:20260829
DTEND;VALUE=DATE:20260830
DTSTAMP:20260424T053854
CREATED:20251209T054214Z
LAST-MODIFIED:20251209T055151Z
UID:13677-1787961600-1788047999@www.resonanzwerk.de
SUMMARY:Geschlossene Gesellschaft
DESCRIPTION:Geschlossene Gesellschaft
URL:https://www.resonanzwerk.de/event/geschlossene-gesellschaft-4/2026-08-29/
LOCATION:ResonanzWerk\, Annemarie-Renger-Weg 5\, Oberhausen\, 46047\, Deutschland
ATTACH;FMTTYPE=image/jpeg:https://www.resonanzwerk.de/wp-content/uploads/2025/12/IMG-20240802-WA0024.jpg
END:VEVENT
BEGIN:VEVENT
DTSTART;VALUE=DATE:20260905
DTEND;VALUE=DATE:20260906
DTSTAMP:20260424T053854
CREATED:20251209T054214Z
LAST-MODIFIED:20251209T055151Z
UID:13681-1788566400-1788652799@www.resonanzwerk.de
SUMMARY:Geschlossene Gesellschaft
DESCRIPTION:Geschlossene Gesellschaft
URL:https://www.resonanzwerk.de/event/geschlossene-gesellschaft-4/2026-09-05/
LOCATION:ResonanzWerk\, Annemarie-Renger-Weg 5\, Oberhausen\, 46047\, Deutschland
ATTACH;FMTTYPE=image/jpeg:https://www.resonanzwerk.de/wp-content/uploads/2025/12/IMG-20240802-WA0024.jpg
END:VEVENT
BEGIN:VEVENT
DTSTART;VALUE=DATE:20260919
DTEND;VALUE=DATE:20260920
DTSTAMP:20260424T053854
CREATED:20251209T054214Z
LAST-MODIFIED:20251209T055151Z
UID:13682-1789776000-1789862399@www.resonanzwerk.de
SUMMARY:Geschlossene Gesellschaft
DESCRIPTION:Geschlossene Gesellschaft
URL:https://www.resonanzwerk.de/event/geschlossene-gesellschaft-4/2026-09-19/
LOCATION:ResonanzWerk\, Annemarie-Renger-Weg 5\, Oberhausen\, 46047\, Deutschland
ATTACH;FMTTYPE=image/jpeg:https://www.resonanzwerk.de/wp-content/uploads/2025/12/IMG-20240802-WA0024.jpg
END:VEVENT
BEGIN:VEVENT
DTSTART;VALUE=DATE:20260925
DTEND;VALUE=DATE:20260926
DTSTAMP:20260424T053854
CREATED:20251209T054214Z
LAST-MODIFIED:20251209T055151Z
UID:13683-1790294400-1790380799@www.resonanzwerk.de
SUMMARY:Geschlossene Gesellschaft
DESCRIPTION:Geschlossene Gesellschaft
URL:https://www.resonanzwerk.de/event/geschlossene-gesellschaft-4/2026-09-25/
LOCATION:ResonanzWerk\, Annemarie-Renger-Weg 5\, Oberhausen\, 46047\, Deutschland
ATTACH;FMTTYPE=image/jpeg:https://www.resonanzwerk.de/wp-content/uploads/2025/12/IMG-20240802-WA0024.jpg
END:VEVENT
BEGIN:VEVENT
DTSTART;VALUE=DATE:20260926
DTEND;VALUE=DATE:20260927
DTSTAMP:20260424T053854
CREATED:20251209T054214Z
LAST-MODIFIED:20251209T055151Z
UID:13684-1790380800-1790467199@www.resonanzwerk.de
SUMMARY:Geschlossene Gesellschaft
DESCRIPTION:Geschlossene Gesellschaft
URL:https://www.resonanzwerk.de/event/geschlossene-gesellschaft-4/2026-09-26/
LOCATION:ResonanzWerk\, Annemarie-Renger-Weg 5\, Oberhausen\, 46047\, Deutschland
ATTACH;FMTTYPE=image/jpeg:https://www.resonanzwerk.de/wp-content/uploads/2025/12/IMG-20240802-WA0024.jpg
END:VEVENT
BEGIN:VEVENT
DTSTART;VALUE=DATE:20261024
DTEND;VALUE=DATE:20261025
DTSTAMP:20260424T053854
CREATED:20251209T054214Z
LAST-MODIFIED:20251209T054214Z
UID:13688-1792800000-1792886399@www.resonanzwerk.de
SUMMARY:Geschlossene Gesellschaft
DESCRIPTION:Geschlossene Gesellschaft
URL:https://www.resonanzwerk.de/event/geschlossene-gesellschaft-4/2026-10-24/
LOCATION:ResonanzWerk\, Annemarie-Renger-Weg 5\, Oberhausen\, 46047\, Deutschland
ATTACH;FMTTYPE=image/jpeg:https://www.resonanzwerk.de/wp-content/uploads/2025/12/IMG-20240802-WA0024.jpg
END:VEVENT
END:VCALENDAR