BEGIN:VCALENDAR
VERSION:2.0
PRODID:-//Resonanzwerk - ECPv6.2.3.1//NONSGML v1.0//EN
CALSCALE:GREGORIAN
METHOD:PUBLISH
X-WR-CALNAME:Resonanzwerk
X-ORIGINAL-URL:https://www.resonanzwerk.de
X-WR-CALDESC:Veranstaltungen für Resonanzwerk
REFRESH-INTERVAL;VALUE=DURATION:PT1H
X-Robots-Tag:noindex
X-PUBLISHED-TTL:PT1H
BEGIN:VTIMEZONE
TZID:Europe/Berlin
BEGIN:DAYLIGHT
TZOFFSETFROM:+0100
TZOFFSETTO:+0200
TZNAME:CEST
DTSTART:20250330T010000
END:DAYLIGHT
BEGIN:STANDARD
TZOFFSETFROM:+0200
TZOFFSETTO:+0100
TZNAME:CET
DTSTART:20251026T010000
END:STANDARD
BEGIN:DAYLIGHT
TZOFFSETFROM:+0100
TZOFFSETTO:+0200
TZNAME:CEST
DTSTART:20260329T010000
END:DAYLIGHT
BEGIN:STANDARD
TZOFFSETFROM:+0200
TZOFFSETTO:+0100
TZNAME:CET
DTSTART:20261025T010000
END:STANDARD
END:VTIMEZONE
BEGIN:VEVENT
DTSTART;VALUE=DATE:20260307
DTEND;VALUE=DATE:20260308
DTSTAMP:20260424T075746
CREATED:20251209T054214Z
LAST-MODIFIED:20251209T055144Z
UID:13649-1772841600-1772927999@www.resonanzwerk.de
SUMMARY:Geschlossene Gesellschaft
DESCRIPTION:Geschlossene Gesellschaft
URL:https://www.resonanzwerk.de/event/geschlossene-gesellschaft-4/2026-03-07/
LOCATION:ResonanzWerk\, Annemarie-Renger-Weg 5\, Oberhausen\, 46047\, Deutschland
ATTACH;FMTTYPE=image/jpeg:https://www.resonanzwerk.de/wp-content/uploads/2025/12/IMG-20240802-WA0024.jpg
END:VEVENT
BEGIN:VEVENT
DTSTART;VALUE=DATE:20260214
DTEND;VALUE=DATE:20260215
DTSTAMP:20260424T075746
CREATED:20251209T054214Z
LAST-MODIFIED:20251209T055144Z
UID:13645-1771027200-1771113599@www.resonanzwerk.de
SUMMARY:Geschlossene Gesellschaft
DESCRIPTION:Geschlossene Gesellschaft
URL:https://www.resonanzwerk.de/event/geschlossene-gesellschaft-4/2026-02-14/
LOCATION:ResonanzWerk\, Annemarie-Renger-Weg 5\, Oberhausen\, 46047\, Deutschland
ATTACH;FMTTYPE=image/jpeg:https://www.resonanzwerk.de/wp-content/uploads/2025/12/IMG-20240802-WA0024.jpg
END:VEVENT
BEGIN:VEVENT
DTSTART;VALUE=DATE:20260207
DTEND;VALUE=DATE:20260208
DTSTAMP:20260424T075746
CREATED:20251209T054214Z
LAST-MODIFIED:20251209T055144Z
UID:13644-1770422400-1770508799@www.resonanzwerk.de
SUMMARY:Geschlossene Gesellschaft
DESCRIPTION:Geschlossene Gesellschaft
URL:https://www.resonanzwerk.de/event/geschlossene-gesellschaft-4/2026-02-07/
LOCATION:ResonanzWerk\, Annemarie-Renger-Weg 5\, Oberhausen\, 46047\, Deutschland
ATTACH;FMTTYPE=image/jpeg:https://www.resonanzwerk.de/wp-content/uploads/2025/12/IMG-20240802-WA0024.jpg
END:VEVENT
BEGIN:VEVENT
DTSTART;VALUE=DATE:20251213
DTEND;VALUE=DATE:20251214
DTSTAMP:20260424T075746
CREATED:20251209T054214Z
LAST-MODIFIED:20251209T055144Z
UID:13646-1765584000-1765670399@www.resonanzwerk.de
SUMMARY:Geschlossene Gesellschaft
DESCRIPTION:Geschlossene Gesellschaft
URL:https://www.resonanzwerk.de/event/geschlossene-gesellschaft-4/2025-12-13/
LOCATION:ResonanzWerk\, Annemarie-Renger-Weg 5\, Oberhausen\, 46047\, Deutschland
ATTACH;FMTTYPE=image/jpeg:https://www.resonanzwerk.de/wp-content/uploads/2025/12/IMG-20240802-WA0024.jpg
END:VEVENT
BEGIN:VEVENT
DTSTART;VALUE=DATE:20251212
DTEND;VALUE=DATE:20251213
DTSTAMP:20260424T075746
CREATED:20251209T054214Z
LAST-MODIFIED:20251209T055144Z
UID:13640-1765497600-1765583999@www.resonanzwerk.de
SUMMARY:Geschlossene Gesellschaft
DESCRIPTION:Geschlossene Gesellschaft
URL:https://www.resonanzwerk.de/event/geschlossene-gesellschaft-4/2025-12-12/
LOCATION:ResonanzWerk\, Annemarie-Renger-Weg 5\, Oberhausen\, 46047\, Deutschland
ATTACH;FMTTYPE=image/jpeg:https://www.resonanzwerk.de/wp-content/uploads/2025/12/IMG-20240802-WA0024.jpg
END:VEVENT
END:VCALENDAR